BEGIN:VCALENDAR
VERSION:2.0
PRODID:-//Tukios.com/
BEGIN:VEVENT
UID:9b1ad241-5a97-4c98-93d7-3330a4a28697@www.serenityfla.com
DTSTAMP:20260424T005013Z
DTSTART:20260425T173000Z
DTEND:20260425T183000Z
SUMMARY:Burial
DESCRIPTION:
URL:https://www.serenityfla.com/obituaries/georgina-balboa
LOCATION: 14200 SW 117th Ave  Miami FL 33186
GEO:25.6381303;-80.3833713
END:VEVENT
END:VCALENDAR